BEGIN:VCALENDAR
VERSION:2.0
PRODID:-//hacksw/handcal//NONSGML v1.0//EN
BEGIN:VEVENT
UID:5905
DTSTART;VALUE=DATE:20160409
URL;VALUE=URI:ohschonhell.at/?page_id=10994
SUMMARY:Thomas &amp\; Friends ▬ SASS
LOCATION:SASS
END:VEVENT
END:VCALENDAR


