BEGIN:VCALENDAR
VERSION:2.0
PRODID:-//hacksw/handcal//NONSGML v1.0//EN
BEGIN:VEVENT
UID:5908
DTSTART;VALUE=DATE:20160402
URL;VALUE=URI:ohschonhell.at/?page_id=11000
SUMMARY:VERWIRRT mit JOHANNES HAIDIN &amp\; DEM LIVE
LOCATION:DUAL
END:VEVENT
END:VCALENDAR


