BEGIN:VCALENDAR
VERSION:2.0
PRODID:-//hacksw/handcal//NONSGML v1.0//EN
BEGIN:VEVENT
UID:5909
DTSTART;VALUE=DATE:20160402
URL;VALUE=URI:ohschonhell.at/?page_id=11002
SUMMARY:PSY CAVE
LOCATION:VIPER ROOM
END:VEVENT
END:VCALENDAR


