BEGIN:VCALENDAR
VERSION:2.0
PRODID:-//hacksw/handcal//NONSGML v1.0//EN
BEGIN:VEVENT
UID:5919
DTSTART;VALUE=DATE:20160323
URL;VALUE=URI:ohschonhell.at/?page_id=11024
SUMMARY:David &amp\; Goliath #2
LOCATION:Kramladen
END:VEVENT
END:VCALENDAR


