BEGIN:VCALENDAR
VERSION:2.0
PRODID:-//hacksw/handcal//NONSGML v1.0//EN
BEGIN:VEVENT
UID:5937
DTSTART;VALUE=DATE:20160325
URL;VALUE=URI:ohschonhell.at/?page_id=11056
SUMMARY:On y va - # 2
LOCATION:KIOSK SCHLEIFMÜHLGASSE
END:VEVENT
END:VCALENDAR


