BEGIN:VCALENDAR
VERSION:2.0
PRODID:-//hacksw/handcal//NONSGML v1.0//EN
BEGIN:VEVENT
UID:5948
DTSTART;VALUE=DATE:20160331
URL;VALUE=URI:ohschonhell.at/?page_id=11072
SUMMARY:If raw gets gentle
LOCATION:ELEKTRO GÖNNER
END:VEVENT
END:VCALENDAR


