BEGIN:VCALENDAR
VERSION:2.0
PRODID:-//hacksw/handcal//NONSGML v1.0//EN
BEGIN:VEVENT
UID:5966
DTSTART;VALUE=DATE:20160331
URL;VALUE=URI:ohschonhell.at/?page_id=11111
SUMMARY:22 Grad - AfdD - Alternative für den Donaukanal
LOCATION:AUGARTENBRÜCKE
END:VEVENT
END:VCALENDAR


