BEGIN:VCALENDAR
VERSION:2.0
PRODID:-//hacksw/handcal//NONSGML v1.0//EN
BEGIN:VEVENT
UID:5969
DTSTART;VALUE=DATE:20160401
URL;VALUE=URI:ohschonhell.at/?page_id=11122
SUMMARY:Ζωή - ZOI w/ Der Wanderer - every Friday at HADES
LOCATION:Hades
END:VEVENT
END:VCALENDAR


