BEGIN:VCALENDAR
VERSION:2.0
PRODID:-//hacksw/handcal//NONSGML v1.0//EN
BEGIN:VEVENT
UID:6
DTSTART;VALUE=DATE:20131130
URL;VALUE=URI:ohschonhell.at/?page_id=2403
SUMMARY:wiener endorphine - anno duo
LOCATION:RAGNARHOF
END:VEVENT
END:VCALENDAR


