BEGIN:VCALENDAR
VERSION:2.0
PRODID:-//hacksw/handcal//NONSGML v1.0//EN
BEGIN:VEVENT
UID:6005
DTSTART;VALUE=DATE:20160408
URL;VALUE=URI:ohschonhell.at/?page_id=11195
SUMMARY:Austrinken &amp\; Abfeiern
LOCATION:Seven
END:VEVENT
END:VCALENDAR


