BEGIN:VCALENDAR
VERSION:2.0
PRODID:-//hacksw/handcal//NONSGML v1.0//EN
BEGIN:VEVENT
UID:6044
DTSTART;VALUE=DATE:20160514
URL;VALUE=URI:ohschonhell.at/?page_id=11284
SUMMARY:Laissez-Faire
LOCATION:DUAL
END:VEVENT
END:VCALENDAR


