BEGIN:VCALENDAR
VERSION:2.0
PRODID:-//hacksw/handcal//NONSGML v1.0//EN
BEGIN:VEVENT
UID:6050
DTSTART;VALUE=DATE:20160506
URL;VALUE=URI:ohschonhell.at/?page_id=11296
SUMMARY:PSY-DARKroom
LOCATION:CAFE DERWISCH
END:VEVENT
END:VCALENDAR


