BEGIN:VCALENDAR
VERSION:2.0
PRODID:-//hacksw/handcal//NONSGML v1.0//EN
BEGIN:VEVENT
UID:6058
DTSTART;VALUE=DATE:20160416
URL;VALUE=URI:ohschonhell.at/?page_id=11312
SUMMARY:PRATEREI presents: &quot\;THE HOUSE-TAPE&quot\; ft. Mia Rabe
LOCATION:KIOSK SCHLEIFMÜHLGASSE
END:VEVENT
END:VCALENDAR


