BEGIN:VCALENDAR
VERSION:2.0
PRODID:-//hacksw/handcal//NONSGML v1.0//EN
BEGIN:VEVENT
UID:6073
DTSTART;VALUE=DATE:20160513
URL;VALUE=URI:ohschonhell.at/?page_id=11344
SUMMARY:ZUCKERWATT mit YETTI MEISSNER | Grelle Forelle
LOCATION:GRELLE FORELLE
END:VEVENT
END:VCALENDAR


