BEGIN:VCALENDAR
VERSION:2.0
PRODID:-//hacksw/handcal//NONSGML v1.0//EN
BEGIN:VEVENT
UID:6089
DTSTART;VALUE=DATE:20160422
URL;VALUE=URI:ohschonhell.at/?page_id=11376
SUMMARY:ZOI x BLACK MARKET w/ Eddie Richards [Fabric London | UK]
LOCATION:Hades
END:VEVENT
END:VCALENDAR


