BEGIN:VCALENDAR
VERSION:2.0
PRODID:-//hacksw/handcal//NONSGML v1.0//EN
BEGIN:VEVENT
UID:6093
DTSTART;VALUE=DATE:20160420
URL;VALUE=URI:ohschonhell.at/?page_id=11384
SUMMARY:David &amp\; Goliath Nr.4
LOCATION:Kramladen
END:VEVENT
END:VCALENDAR


