BEGIN:VCALENDAR
VERSION:2.0
PRODID:-//hacksw/handcal//NONSGML v1.0//EN
BEGIN:VEVENT
UID:6095
DTSTART;VALUE=DATE:20160419
URL;VALUE=URI:ohschonhell.at/?page_id=11388
SUMMARY:KUNSTSCHATZI – Cocktailbar &amp\; DJ-LineUp in der Kuppelhalle
LOCATION:KUNSTHISTORISCHES MUSEUM
END:VEVENT
END:VCALENDAR


