BEGIN:VCALENDAR
VERSION:2.0
PRODID:-//hacksw/handcal//NONSGML v1.0//EN
BEGIN:VEVENT
UID:6108
DTSTART;VALUE=DATE:20160720
URL;VALUE=URI:ohschonhell.at/?page_id=11417
SUMMARY:David &amp\; Goliath 16
LOCATION:Kramladen
END:VEVENT
END:VCALENDAR


