BEGIN:VCALENDAR
VERSION:2.0
PRODID:-//hacksw/handcal//NONSGML v1.0//EN
BEGIN:VEVENT
UID:6109
DTSTART;VALUE=DATE:20160713
URL;VALUE=URI:ohschonhell.at/?page_id=11419
SUMMARY:David &amp\; Goliath 14
LOCATION:Kramladen
END:VEVENT
END:VCALENDAR


