BEGIN:VCALENDAR
VERSION:2.0
PRODID:-//hacksw/handcal//NONSGML v1.0//EN
BEGIN:VEVENT
UID:6111
DTSTART;VALUE=DATE:20160629
URL;VALUE=URI:ohschonhell.at/?page_id=11423
SUMMARY:David &amp\; Goliath No. 12
LOCATION:Kramladen
END:VEVENT
END:VCALENDAR


