BEGIN:VCALENDAR
VERSION:2.0
PRODID:-//hacksw/handcal//NONSGML v1.0//EN
BEGIN:VEVENT
UID:6113
DTSTART;VALUE=DATE:20160622
URL;VALUE=URI:ohschonhell.at/?page_id=11427
SUMMARY:David &amp\; Goliath Eleven
LOCATION:Kramladen
END:VEVENT
END:VCALENDAR


