BEGIN:VCALENDAR
VERSION:2.0
PRODID:-//hacksw/handcal//NONSGML v1.0//EN
BEGIN:VEVENT
UID:6114
DTSTART;VALUE=DATE:20160608
URL;VALUE=URI:ohschonhell.at/?page_id=11429
SUMMARY:David &amp\; Goliath 10
LOCATION:Kramladen
END:VEVENT
END:VCALENDAR


