BEGIN:VCALENDAR
VERSION:2.0
PRODID:-//hacksw/handcal//NONSGML v1.0//EN
BEGIN:VEVENT
UID:6121
DTSTART;VALUE=DATE:20160521
URL;VALUE=URI:ohschonhell.at/?page_id=11443
SUMMARY:ॐ Lisa&#039\;s Bday-Bash ॐ
LOCATION:SUMMER STATION
END:VEVENT
END:VCALENDAR


