BEGIN:VCALENDAR
VERSION:2.0
PRODID:-//hacksw/handcal//NONSGML v1.0//EN
BEGIN:VEVENT
UID:6122
DTSTART;VALUE=DATE:20160511
URL;VALUE=URI:ohschonhell.at/?page_id=11445
SUMMARY:David &amp\; Goliath Seven
LOCATION:Kramladen
END:VEVENT
END:VCALENDAR


