BEGIN:VCALENDAR
VERSION:2.0
PRODID:-//hacksw/handcal//NONSGML v1.0//EN
BEGIN:VEVENT
UID:6126
DTSTART;VALUE=DATE:20160504
URL;VALUE=URI:ohschonhell.at/?page_id=11453
SUMMARY:David &amp\; Goliath no. 6
LOCATION:Kramladen
END:VEVENT
END:VCALENDAR


