BEGIN:VCALENDAR
VERSION:2.0
PRODID:-//hacksw/handcal//NONSGML v1.0//EN
BEGIN:VEVENT
UID:6134
DTSTART;VALUE=DATE:20160427
URL;VALUE=URI:ohschonhell.at/?page_id=11469
SUMMARY:David &amp\; Goliath 5
LOCATION:Kramladen
END:VEVENT
END:VCALENDAR


