BEGIN:VCALENDAR
VERSION:2.0
PRODID:-//hacksw/handcal//NONSGML v1.0//EN
BEGIN:VEVENT
UID:6137
DTSTART;VALUE=DATE:20160527
URL;VALUE=URI:ohschonhell.at/?page_id=11476
SUMMARY:SHEEFIT - cubbo Brazil \, DARMEC elektrax UK - 1st time in vienna
LOCATION:OPERA CLUB
END:VEVENT
END:VCALENDAR


