BEGIN:VCALENDAR
VERSION:2.0
PRODID:-//hacksw/handcal//NONSGML v1.0//EN
BEGIN:VEVENT
UID:6142
DTSTART;VALUE=DATE:20160429
URL;VALUE=URI:ohschonhell.at/?page_id=11486
SUMMARY:BERLIN NIGHTS feat. Mihai Popoviciu: &quot\;HOME&quot\; Album Release Tour -VIENNA
LOCATION:CHAYA FUERA
END:VEVENT
END:VCALENDAR


