BEGIN:VCALENDAR
VERSION:2.0
PRODID:-//hacksw/handcal//NONSGML v1.0//EN
BEGIN:VEVENT
UID:6151
DTSTART;VALUE=DATE:20160430
URL;VALUE=URI:ohschonhell.at/?page_id=11507
SUMMARY:TECHNOLAND
LOCATION:ELEKTRO GÖNNER
END:VEVENT
END:VCALENDAR


