BEGIN:VCALENDAR
VERSION:2.0
PRODID:-//hacksw/handcal//NONSGML v1.0//EN
BEGIN:VEVENT
UID:6153
DTSTART;VALUE=DATE:20160504
URL;VALUE=URI:ohschonhell.at/?page_id=11511
SUMMARY:FLIEHKRAFT
LOCATION:OPERA CLUB
END:VEVENT
END:VCALENDAR


