BEGIN:VCALENDAR
VERSION:2.0
PRODID:-//hacksw/handcal//NONSGML v1.0//EN
BEGIN:VEVENT
UID:6185
DTSTART;VALUE=DATE:20160430
URL;VALUE=URI:ohschonhell.at/?page_id=11581
SUMMARY:HADES SATURDAYS w/ Philipp van het Veld &amp\; dRob
LOCATION:Hades
END:VEVENT
END:VCALENDAR


