BEGIN:VCALENDAR
VERSION:2.0
PRODID:-//hacksw/handcal//NONSGML v1.0//EN
BEGIN:VEVENT
UID:6189
DTSTART;VALUE=DATE:20160429
URL;VALUE=URI:ohschonhell.at/?page_id=11589
SUMMARY:On y va - # 3 - The birthday edition - KIOSK CLOSING PARTY !!!
LOCATION:KIOSK SCHLEIFMÜHLGASSE
END:VEVENT
END:VCALENDAR


