BEGIN:VCALENDAR
VERSION:2.0
PRODID:-//hacksw/handcal//NONSGML v1.0//EN
BEGIN:VEVENT
UID:6204
DTSTART;VALUE=DATE:20160525
URL;VALUE=URI:ohschonhell.at/?page_id=11626
SUMMARY:VdB for President AfterParty + Geburtstagsparty mit Tim Es Punkt und Fabian Wassermann
LOCATION:KLUB GRU
END:VEVENT
END:VCALENDAR


