BEGIN:VCALENDAR
VERSION:2.0
PRODID:-//hacksw/handcal//NONSGML v1.0//EN
BEGIN:VEVENT
UID:6213
DTSTART;VALUE=DATE:20160521
URL;VALUE=URI:ohschonhell.at/?page_id=11644
SUMMARY:VERWIRRT mit REITER &amp\; HOFER
LOCATION:DUAL
END:VEVENT
END:VCALENDAR


