BEGIN:VCALENDAR
VERSION:2.0
PRODID:-//hacksw/handcal//NONSGML v1.0//EN
BEGIN:VEVENT
UID:6220
DTSTART;VALUE=DATE:20160507
URL;VALUE=URI:ohschonhell.at/?page_id=11658
SUMMARY:Hausmukke #5
LOCATION:TONSTUBE
END:VEVENT
END:VCALENDAR


