BEGIN:VCALENDAR
VERSION:2.0
PRODID:-//hacksw/handcal//NONSGML v1.0//EN
BEGIN:VEVENT
UID:6245
DTSTART;VALUE=DATE:20160513
URL;VALUE=URI:ohschonhell.at/?page_id=11715
SUMMARY:Ditschko Hernals
LOCATION:ZUM GSCHUPFTN FERDL
END:VEVENT
END:VCALENDAR


