BEGIN:VCALENDAR
VERSION:2.0
PRODID:-//hacksw/handcal//NONSGML v1.0//EN
BEGIN:VEVENT
UID:625
DTSTART;VALUE=DATE:20140130
URL;VALUE=URI:ohschonhell.at/?page_id=3081
SUMMARY:F L A V A  #  2  FM4 JOE JOE  //  JULIUS LP //  KY:ZE
LOCATION:ROXY CLUB
END:VEVENT
END:VCALENDAR


