BEGIN:VCALENDAR
VERSION:2.0
PRODID:-//hacksw/handcal//NONSGML v1.0//EN
BEGIN:VEVENT
UID:6259
DTSTART;VALUE=DATE:20160603
URL;VALUE=URI:ohschonhell.at/?page_id=11744
SUMMARY:PANTA RHEI #4
LOCATION:OPERA CLUB
END:VEVENT
END:VCALENDAR


