BEGIN:VCALENDAR
VERSION:2.0
PRODID:-//hacksw/handcal//NONSGML v1.0//EN
BEGIN:VEVENT
UID:6267
DTSTART;VALUE=DATE:20160610
URL;VALUE=URI:ohschonhell.at/?page_id=11762
SUMMARY:Bad Robots Club
LOCATION:DUAL
END:VEVENT
END:VCALENDAR


