BEGIN:VCALENDAR
VERSION:2.0
PRODID:-//hacksw/handcal//NONSGML v1.0//EN
BEGIN:VEVENT
UID:6272
DTSTART;VALUE=DATE:20160519
URL;VALUE=URI:ohschonhell.at/?page_id=11772
SUMMARY:Elektro-STAMMTISCH
LOCATION:RADIO - THE LABEL BAR
END:VEVENT
END:VCALENDAR


