BEGIN:VCALENDAR
VERSION:2.0
PRODID:-//hacksw/handcal//NONSGML v1.0//EN
BEGIN:VEVENT
UID:6281
DTSTART;VALUE=DATE:20160518
URL;VALUE=URI:ohschonhell.at/?page_id=11790
SUMMARY:David &amp\; Goliath No.8 meets Mondscheingasse
LOCATION:Kramladen
END:VEVENT
END:VCALENDAR


