BEGIN:VCALENDAR
VERSION:2.0
PRODID:-//hacksw/handcal//NONSGML v1.0//EN
BEGIN:VEVENT
UID:6294
DTSTART;VALUE=DATE:20160527
URL;VALUE=URI:ohschonhell.at/?page_id=11815
SUMMARY:KRAMLADEN\,BABY!
LOCATION:Kramladen
END:VEVENT
END:VCALENDAR


