BEGIN:VCALENDAR
VERSION:2.0
PRODID:-//hacksw/handcal//NONSGML v1.0//EN
BEGIN:VEVENT
UID:63
DTSTART;VALUE=DATE:20131128
URL;VALUE=URI:ohschonhell.at/?page_id=2455
SUMMARY:Salopp! FM4 Swound Sound Recording Session
LOCATION:BRUT
END:VEVENT
END:VCALENDAR


