BEGIN:VCALENDAR
VERSION:2.0
PRODID:-//hacksw/handcal//NONSGML v1.0//EN
BEGIN:VEVENT
UID:6318
DTSTART;VALUE=DATE:20160601
URL;VALUE=URI:ohschonhell.at/?page_id=11864
SUMMARY:Frieden und Liebe gehen Tanzen #5
LOCATION:VENSTER 99
END:VEVENT
END:VCALENDAR


