BEGIN:VCALENDAR
VERSION:2.0
PRODID:-//hacksw/handcal//NONSGML v1.0//EN
BEGIN:VEVENT
UID:633
DTSTART;VALUE=DATE:20140207
URL;VALUE=URI:ohschonhell.at/?page_id=3089
SUMMARY:vermummungsGEBOT@ZAMBARA@FM4  La Boum De Luxe
LOCATION:WIRR
END:VEVENT
END:VCALENDAR


