BEGIN:VCALENDAR
VERSION:2.0
PRODID:-//hacksw/handcal//NONSGML v1.0//EN
BEGIN:VEVENT
UID:6356
DTSTART;VALUE=DATE:20160603
URL;VALUE=URI:ohschonhell.at/?page_id=11949
SUMMARY:Lost in Bass
LOCATION:ELEKTRO GÖNNER
END:VEVENT
END:VCALENDAR


