BEGIN:VCALENDAR
VERSION:2.0
PRODID:-//hacksw/handcal//NONSGML v1.0//EN
BEGIN:VEVENT
UID:637
DTSTART;VALUE=DATE:20140207
URL;VALUE=URI:ohschonhell.at/?page_id=3093
SUMMARY:B Happy - 66 Years of  HAPPINESS - Aquarius B DAY MADNESS
LOCATION:CHAYA FUERA
END:VEVENT
END:VCALENDAR


