BEGIN:VCALENDAR
VERSION:2.0
PRODID:-//hacksw/handcal//NONSGML v1.0//EN
BEGIN:VEVENT
UID:6381
DTSTART;VALUE=DATE:20160611
URL;VALUE=URI:ohschonhell.at/?page_id=12002
SUMMARY:Mode Talking feat. Julian und der Fux (live vocal + dj set)
LOCATION:VOLKSGARTEN
END:VEVENT
END:VCALENDAR


