BEGIN:VCALENDAR
VERSION:2.0
PRODID:-//hacksw/handcal//NONSGML v1.0//EN
BEGIN:VEVENT
UID:6392
DTSTART;VALUE=DATE:20160611
URL;VALUE=URI:ohschonhell.at/?page_id=12029
SUMMARY:FLIEHKRAFT002
LOCATION:OPERA CLUB
END:VEVENT
END:VCALENDAR


