BEGIN:VCALENDAR
VERSION:2.0
PRODID:-//hacksw/handcal//NONSGML v1.0//EN
BEGIN:VEVENT
UID:6408
DTSTART;VALUE=DATE:20160608
URL;VALUE=URI:ohschonhell.at/?page_id=12061
SUMMARY:Patrick Ward &amp\; Andi Fettkakao
LOCATION:ELEKTRO GÖNNER
END:VEVENT
END:VCALENDAR


